BEGIN:VCALENDAR
VERSION:2.0
PRODID:-//Pride Edmonton - ECPv6.15.20//NONSGML v1.0//EN
CALSCALE:GREGORIAN
METHOD:PUBLISH
X-ORIGINAL-URL:https://prideedmonton.ca
X-WR-CALDESC:Events for Pride Edmonton
REFRESH-INTERVAL;VALUE=DURATION:PT1H
X-Robots-Tag:noindex
X-PUBLISHED-TTL:PT1H
BEGIN:VTIMEZONE
TZID:America/Edmonton
BEGIN:DAYLIGHT
TZOFFSETFROM:-0700
TZOFFSETTO:-0600
TZNAME:MDT
DTSTART:20250309T090000
END:DAYLIGHT
BEGIN:STANDARD
TZOFFSETFROM:-0600
TZOFFSETTO:-0700
TZNAME:MST
DTSTART:20251102T080000
END:STANDARD
BEGIN:DAYLIGHT
TZOFFSETFROM:-0700
TZOFFSETTO:-0600
TZNAME:MDT
DTSTART:20260308T090000
END:DAYLIGHT
BEGIN:STANDARD
TZOFFSETFROM:-0600
TZOFFSETTO:-0700
TZNAME:MST
DTSTART:20261101T080000
END:STANDARD
BEGIN:DAYLIGHT
TZOFFSETFROM:-0700
TZOFFSETTO:-0600
TZNAME:MDT
DTSTART:20270314T090000
END:DAYLIGHT
BEGIN:STANDARD
TZOFFSETFROM:-0600
TZOFFSETTO:-0700
TZNAME:MST
DTSTART:20271107T080000
END:STANDARD
END:VTIMEZONE
BEGIN:VEVENT
DTSTART;TZID=America/Edmonton:20260613T200000
DTEND;TZID=America/Edmonton:20260614T020000
DTSTAMP:20260423T223814
CREATED:20260312T154829Z
LAST-MODIFIED:20260312T155052Z
UID:5628-1781380800-1781402400@prideedmonton.ca
SUMMARY:Fruit Loop Pride Dance
DESCRIPTION:Join us at the historic Starlite Room as we celebrate Pride with Edmonton’s best dance party in support of Rainbow Refuge! \n\n\n\n18+ or All Ages18+ \n\n\n\nVenueThe Starlite Room \n\n\n\nAddressStreet Address : 10030 102 St NWCity : EdmontonState/Province : ABZIP / Postal Code : T5J 0V6 \n\n\n\nWebsite Linkhttp://www.fruitloop.ca \n\n\n\nEvent Linkhttps://www.facebook.com/share/1GaHfeBwk7/ \n\n\n\nTicket Linkhttps://www.ticketweb.ca/event/fruit-loop-the-starlite-room-tickets/14109414 \n\n\n\nTicket Description #1Adult Ticket Amount #1$25  \n\n\n\nIndoor event or outdoor eventIndoors  \n\n\n\nType of eventNon-profit  \n\n\n\nIs this event presented by a College or University for students only?No  \n\n\n\nEvent ContactJoshua Wolchansky  \n\n\n\nEvent Contact Email Addressfruit.loop.edmonton@gmail.com \n\n\n\nFacebook Pagehttps://facebook.com/fruitloopyeg/ \n\n\n\nInstagram Accounthttps://instagram.com/fruitloopyeg/ \n\n\nCommunity Fundraiser\, Dance Party\, Drag Show\, Performance/Concert/Show
URL:https://prideedmonton.ca/event/fruit-loop-pride-dance/
LOCATION:The Starlite Room\, 10030 102 St NW\, Edmonton\, AB\, T5J 0V6\, Canada
CATEGORIES:Community Fundraiser,Dance Party,Drag Show,Performance/Concert/Show
ATTACH;FMTTYPE=image/jpeg:https://prideedmonton.ca/wp-content/uploads/forminator/5480_8d4413e666986c99003eea5c20039e3c/uploads/k9CHwoJzjZgP-FL_Pride2026_Save_Date-DP.jpg
ORGANIZER;CN="Fruit Loop Society":MAILTO:fruit.loop.edmonton@gmail.com
END:VEVENT
BEGIN:VEVENT
DTSTART;TZID=America/Edmonton:20260725T100000
DTEND;TZID=America/Edmonton:20260725T220000
DTSTAMP:20260423T223814
CREATED:20260122T151142Z
LAST-MODIFIED:20260318T162315Z
UID:5567-1784973600-1785016800@prideedmonton.ca
SUMMARY:Pride In The Park - Spruce Grove
DESCRIPTION:Come out to Jubilee Park in Spruce Grove and join us and the community on celebrating love\, unity and community. \n\n\n\nHere you will find local vendors\, food\, music\, dancing and so much love! Come as you as you are and lets create a Safe space for everyone. \n\n\n\nEntry is free\, Most Vendors will have debit machines but cash is encouraged. \n\n\n\nThere will be a drag shows and tipping is encouraged (bring that cash) \n\n\n\nIf you wish to join as a vendor please reach out to prideinthepark24@gmail.com (please note pride in the park does not have any other partners that will take applications) \n\n\n\nWe will also be running Pride after dark rave! It will be later and everyone welcome. (Parents discretion for younger kids) \n\n\n\n18+ or All AgesAll ages  \n\n\n\nVenueJubilee Park  \n\n\n\nAddressStreet Address : 510 Grove DriveCity : Spruce GroveState/Province : AlbertaZIP / Postal Code : T7X 0A7 \n\n\n\nEvent Linkhttps://facebook.com/events/s/pride-in-the-park-2026/1380976460193147/ \n\n\n\nTicket Description #1Free event Ticket Amount #1$0  \n\n\n\nIndoor event or outdoor eventOutdoors  \n\n\n\nType of eventNon-profit  \n\n\n\nIs this event presented by a College or University for students only?No  \n\n\n\nEvent ContactDillion Clarke  \n\n\n\nEvent Contact Email Addressprideinthepark24@gmail.com
URL:https://prideedmonton.ca/event/pride-in-the-park-spruce-grove/
LOCATION:Jubilee Park\, 510 Grove Dr W\, Spruce Grove\, Alberta\, T7X 0A7\, Canada
CATEGORIES:Dance Party,Drag Show,Pride Fair
ATTACH;FMTTYPE=image/jpeg:https://prideedmonton.ca/wp-content/uploads/2026/03/Pride-In-The-Park-Sp-Grove.jpg
ORGANIZER;CN="Pride In The Park Spruce Grove":MAILTO:prideinthepark24@gmail.com
END:VEVENT
END:VCALENDAR