BEGIN:VCALENDAR
VERSION:2.0
PRODID:-//Pride Edmonton - ECPv6.15.20//NONSGML v1.0//EN
CALSCALE:GREGORIAN
METHOD:PUBLISH
X-WR-CALNAME:Pride Edmonton
X-ORIGINAL-URL:https://prideedmonton.ca
X-WR-CALDESC:Events for Pride Edmonton
REFRESH-INTERVAL;VALUE=DURATION:PT1H
X-Robots-Tag:noindex
X-PUBLISHED-TTL:PT1H
BEGIN:VTIMEZONE
TZID:America/Edmonton
BEGIN:DAYLIGHT
TZOFFSETFROM:-0700
TZOFFSETTO:-0600
TZNAME:MDT
DTSTART:20220313T090000
END:DAYLIGHT
BEGIN:STANDARD
TZOFFSETFROM:-0600
TZOFFSETTO:-0700
TZNAME:MST
DTSTART:20221106T080000
END:STANDARD
BEGIN:DAYLIGHT
TZOFFSETFROM:-0700
TZOFFSETTO:-0600
TZNAME:MDT
DTSTART:20230312T090000
END:DAYLIGHT
BEGIN:STANDARD
TZOFFSETFROM:-0600
TZOFFSETTO:-0700
TZNAME:MST
DTSTART:20231105T080000
END:STANDARD
BEGIN:DAYLIGHT
TZOFFSETFROM:-0700
TZOFFSETTO:-0600
TZNAME:MDT
DTSTART:20240310T090000
END:DAYLIGHT
BEGIN:STANDARD
TZOFFSETFROM:-0600
TZOFFSETTO:-0700
TZNAME:MST
DTSTART:20241103T080000
END:STANDARD
END:VTIMEZONE
BEGIN:VEVENT
DTSTART;TZID=America/Edmonton:20230306T130000
DTEND;TZID=America/Edmonton:20230306T150000
DTSTAMP:20260421T142722
CREATED:20230305T214600Z
LAST-MODIFIED:20230305T214602Z
UID:677-1678107600-1678114800@prideedmonton.ca
SUMMARY:Queer Research Connections Event
DESCRIPTION:Queer Research Connections Event\n\n\n\nMarch 6\, 2023 | 1:00 p.m. – 3:00 p.m. \n\n\n\nWhy is research an important part of healthy communities? Come to the Queer Research Connections Event to learn why and how you can pursue the answers to big questions! Student research will be highlighted\, and participants will learn how to engage in research of their own. Snacks and refreshments will be provided\, and attendees will have a chance to build connections with faculty who drive research at MacEwan. \n\n\n\nREGISTER TO ATTEND \n\n\n\nEVENT DETAILS \n\n\n\nMarch 6\, 20231:00 p.m. – 3:00 p.m. \n\n\n\nRoundhouse Event SpaceRoom 11-159\, Allard Hall11110 – 104 AvenueEdmonton\, AB \n\n\n\nJessica Scalzo \n\n\n\n 780-497-4363 \n\n\n\n csgd@macewan.ca \n\n\n\n Register to attend \n\n\n\nPresenters:\n\n\n\nALEX TILLER (SHE/HER)\n\n\n\nHe Said\, She Said\, They Said: Gender Identity\, Displayed Emotion\, and Perceptions of Sexual Assault \n\n\n\nSupervisor: Dr. Kristine Peace \n\n\n\nAlex is in her fourth year of a BSc Honours major in Psychology. As a part of the queer community\, she knows of countless queer folk who are survivors of sexual violence. Unfortunately\, academia has yet to address these high rates of victimization meaningfully\, as gender minorities are often left out of sexual violence research. Despite the relative newness of gender and sexual minority research in psychology\, she believes that researchers have a responsibility to amplify the voices of the queer community to help increase understanding\, intervention\, and ideally prevention of sexual violence in these vulnerable communities. \n\n\n\nJAPKARAN SAROYA (HE/HIM)\n\n\n\nWe’re Queer and We’ve Always Been Here: The Impact of a Virtual Queer History Tour on 2SLGBTQ+ and Cisgender Heterosexual Young Adults in Alberta \n\n\n\nSupervisors: Dr. Eric Legge\, Dr. Kristopher Wells\, Dr. Laura Offrey \n\n\n\nJapkaran is a fifth-year Honours Psychology major. He is interested in the field of LGBT psychology and mental health among 2SLGBTQ+ young adults. Outside of academics\, Japkaran is an avid pop-culture connoisseur and loves to create art in different mediums. \n\n\n\nNOELLE KILBREATH (SHE/HER)\n\n\n\nWhat Does Allyship to the LGBTQ+ Community Mean? \n\n\n\nSupervisor: Dr. Laura Offrey \n\n\n\nNoelle is in her fourth year as a Psychology major and a Gender Studies minor. She is an athlete on the MacEwan women’s basketball team and is originally from Calgary. She is thankful for the opportunity to research LGBTQ+ allyship as it encompasses her heart for social justice\, her desire to understand privilege and dismantle oppression individually and systemically\, and the practice of science. \n\n\n\n\n\n\n\nThis event is part of Pride Week 2023\, where MacEwan University recognizes and celebrates the diversity of our 2SLGBTQ+ students\, faculty\, staff\, and allies.
URL:https://prideedmonton.ca/event/queer-research-connections-event/
LOCATION:MacEwan Roundhouse\, 11110 104 Ave NW\, Edmonton\, AB\, T5K 1M9\, Canada
CATEGORIES:Pride Gathering
ATTACH;FMTTYPE=image/png:https://prideedmonton.ca/wp-content/uploads/2023/03/image-3.png
ORGANIZER;CN="MacEwan CSGD":MAILTO:csgd@macewan.ca
END:VEVENT
BEGIN:VEVENT
DTSTART;TZID=America/Edmonton:20230306T103000
DTEND;TZID=America/Edmonton:20230306T120000
DTSTAMP:20260421T142722
CREATED:20230305T211832Z
LAST-MODIFIED:20230305T222324Z
UID:663-1678098600-1678104000@prideedmonton.ca
SUMMARY:Pride Resource Fair
DESCRIPTION:Pride Resource Fair 2023\n\n\n\nPride Resource Fair\n\n\n\nMarch 6\, 2023 | 10:30 a.m. – 12:00 p.m. \n\n\n\nStop by the Allard Hall Atrium to learn about 2SLGBTQIA+ supports and resources available on campus and in the broader community. Representatives from local organizations and campus bodies will be on-site to answer your questions and connect you to what you need. Enter to win a Pride Week prize package! \n\n\n\nEVENT DETAILS \n\n\n\nMarch 6\, 202310:30 a.m. – 12:00 p.m. \n\n\n\nAllard Hall AtriumAllard Hall11110 – 104 AvenueEdmonton\, AB \n\n\n\nKristie Benson \n\n\n\n 780-497-4363 \n\n\n\n csgd@macewan.ca \n\n\n\nThis event is part of Pride Week 2023\, where MacEwan University recognizes and celebrates the diversity of our 2SLGBTQ+ students\, faculty\, staff\, and allies.
URL:https://prideedmonton.ca/event/pride-resource-fair/
LOCATION:MacEwan Allard Hall\, 11110 104 Ave NW\, Edmonton\, AB\, T5K 1M9\, Canada
CATEGORIES:Pride Fair
ATTACH;FMTTYPE=image/png:https://prideedmonton.ca/wp-content/uploads/2023/03/image-1.png
ORGANIZER;CN="MacEwan CSGD":MAILTO:csgd@macewan.ca
END:VEVENT
BEGIN:VEVENT
DTSTART;TZID=America/Edmonton:20230306T100000
DTEND;TZID=America/Edmonton:20230306T110000
DTSTAMP:20260421T142722
CREATED:20230305T210529Z
LAST-MODIFIED:20230305T213926Z
UID:657-1678096800-1678100400@prideedmonton.ca
SUMMARY:Pride Week March and Opening Ceremonies
DESCRIPTION:Pride Week March and Opening Ceremonies\n\n\n\nMarch 6\, 2023 | 10:00 a.m. – 11:00 a.m. \n\n\n\nJoin your MacEwan community as we march across campus in an act of celebration and solidarity with the 2SLGBTQ+ community. The Pets Assisting with Student Success (PAWSS) animals and Griff will also be in their finest rainbow outfits! Grab a sign\, represent your community\, and join this march across campus. \n\n\n\nWe will start on the main floor of Building 6 and walk across the pedway to Allard Hall where opening remarks from campus and Edmonton community leaders will be shared\, followed by a community resource fair. \n\n\n\nMacEwan University and community organizations will be at the resource fair—check them out to learn what 2SLGBTQ+ supports are available to students. \n\n\n\nEVENT DETAILS \n\n\n\nMarch 6\, 202310:00 a.m. – 11:00 a.m. \n\n\n\nBldg 6 Main Flr (start)\, Allard Hall Atrium (end)City Centre Campus10700 – 104 AvenueEdmonton\, AB \n\n\n\nKristie Benson \n\n\n\n 780-497-4363 \n\n\n\n kristie.benson@macewan.ca
URL:https://prideedmonton.ca/event/pride-week-march-and-opening-ceremonies/
LOCATION:MacEwan University\, 10700 – 104 Ave NW\, Edmonton\, AB\, T5J 4S2\, Canada
CATEGORIES:Pride March
ATTACH;FMTTYPE=image/png:https://prideedmonton.ca/wp-content/uploads/2023/03/image.png
ORGANIZER;CN="MacEwan CSGD":MAILTO:csgd@macewan.ca
END:VEVENT
BEGIN:VEVENT
DTSTART;TZID=America/Edmonton:20230306T090000
DTEND;TZID=America/Edmonton:20230311T020000
DTSTAMP:20260421T142722
CREATED:20230305T195529Z
LAST-MODIFIED:20230305T221529Z
UID:652-1678093200-1678500000@prideedmonton.ca
SUMMARY:MacEwan Pride Week 2023
DESCRIPTION:MacEwan Pride Week 2023\n\n\n\nPride Week 2023\n\n\n\nThis year’s theme is Queer Joy—a radical act of resistance and a way to build community and resilience. We invite you to share your story on your terms and give yourself the past and the future that you have always deserved. \n\n\n\nWe are partnering again with the NorthSide Pride Collaborative Group\, which includes NAIT\, NorQuest\, The King’s University and Concordia University of Edmonton. Event highlights include a new speaker series\, “speed friending” with Concordia\, an “elementary school picture retake day” (to finally get that picture of your “true” self)\, and a Retro Queer Prom at The Rice in the Citadel Theatre. \n\n\n\n  We are proudly supported by TD Bank Group and ATB Financial. \n\n\n\nFor a complete listing of all events happening at MacEwan Pride Week 2023 please click here:https://www.macewan.ca/campus-life/centre-for-sexual-and-gender-diversity/education-and-initiatives/pride-week/
URL:https://prideedmonton.ca/event/macewan-pride-week-2023/
LOCATION:MacEwan Roundhouse\, 11110 104 Ave NW\, Edmonton\, AB\, T5K 1M9\, Canada
CATEGORIES:Pride Week
ATTACH;FMTTYPE=image/jpeg:https://prideedmonton.ca/wp-content/uploads/2023/03/332172344_1298579010690766_1132020298564386308_n.jpg
ORGANIZER;CN="MacEwan CSGD":MAILTO:csgd@macewan.ca
END:VEVENT
BEGIN:VEVENT
DTSTART;TZID=America/Edmonton:20230306T080000
DTEND;TZID=America/Edmonton:20230310T233000
DTSTAMP:20260421T142722
CREATED:20230308T155453Z
LAST-MODIFIED:20230308T155456Z
UID:747-1678089600-1678491000@prideedmonton.ca
SUMMARY:NAIT Pride Week
DESCRIPTION:Pride @ NAIT\n\n\n\nCome out and celebrate NAIT Pride Week taking place March 6 – 10\, 2023. During NAIT Pride\, every member of the NAIT Community is encouraged to show their colours! \n\n\n\nWe believe that our community is stronger and healthier when students and staff feel like they can bring their whole authentic selves into our learning\, working\, and research environments. NAIT is actively taking steps to be an inclusive\, supportive\, and non-judgmental space for members of 2SLGBTQIA+ communities.  \n\n\n\nUpcoming events:Monday\, March 6Flag Rising9:00 am – 9:15 am | Flag poles on 106 Street \n\n\n\nPride Walk11:00 am – 12:00 pm | Across Main Campus \n\n\n\nNAITSA Drag Show12:00 pm – 12:45 pm | CAT (Feltham Centre) \n\n\n\nTuesday\, March 7Popcorn and Button Making11:00 am – 1:00 pm | NAITSA Office\, O-108 \n\n\n\n2SLBGTQIA+ Listening Circle3:00 pm – 4:00 pm | CAT 103 \n\n\n\n2SLBGTQIA+ Listening Circle3:00 pm – 4:00 pm | CAT 103 \n\n\n\nWednesday\, March 8International Women’s Day High Tea12:00 pm – 1:00 pm | Ernest’s | Registration Required \n\n\n\nPaint Your Pride12:00 pm – 2:00 pm | CAT 2X8 (in front of the Glass Box) \n\n\n\nTote-ally Pride Bags1:00 pm – 3:00 pm | CAT Mainstreet (Feltham Centre) \n\n\n\nQueer Ask Me Anything1:00 pm – 3:00 pm | South Lobby \n\n\n\nThursday\, March 9Tote-ally Pride Bags12:00 pm – 2:00 pm | CAT Mainstreet (Feltham Centre) \n\n\n\n2SLGBTQIA+ Inclusion in the Classroom3:00 pm – 4:00 pm | Virtual | Registration Required \n\n\n\nPaint Nite at the Nest4:00 pm – 6:00 pm | The Nest | Registration Required \n\n\n\nFriday\, March 10Rainbow Cupcakes11:00 am – 1:00 pm | CAT182 \n\n\n\nTwo Spirit Talk + Stew and Bannock11:00 am – 1:00 pm | Nîsôhkamâtotân Centre (E124 and E121) \n\n\n\n2SLBGTQIA+ Listening Circle3:00 pm – 4:00 pm | Virtual | Registration Required \n\n\n\nQueer Prom – A North Side Pride and Fruitloop Event8:00 pm | Rice Theatre at the Citadel Theatre | Free for NAIT Students | Registration Required
URL:https://prideedmonton.ca/event/nait-pride-week/
LOCATION:Northern Alberta Institute of Technology (NAIT)\, 11762 106 St NW\, Edmonton\, AB\, T5G 2R1\, Canada
CATEGORIES:Pride Week
ATTACH;FMTTYPE=image/jpeg:https://prideedmonton.ca/wp-content/uploads/2023/03/StudentEngagement_EDI_PrideWeek_Web_20230202_v2.jpg
END:VEVENT
END:VCALENDAR